BEGIN:VCALENDAR
VERSION:2.0
PRODID:-//wp-events-plugin.com//7.2.3.1//EN
TZID:Europe/Berlin
X-WR-TIMEZONE:Europe/Berlin
BEGIN:VEVENT
UID:35@foerderverein-gersfeld.de
DTSTART;TZID=Europe/Berlin:20260426T170000
DTEND;TZID=Europe/Berlin:20260426T170000
DTSTAMP:20260405T130950Z
URL:https://www.foerderverein-gersfeld.de/veranstaltungen/duopasculli-26-0
 4-26-gersfeld/
SUMMARY:Duo Pasculli
DESCRIPTION:Zu „Frühlingsklängen“ in der Barockkirche laden Silke Aug
 ustinski (Oboe) und Anna-Maria Frankenberger (Harfe) ein. Es erklingen Wer
 ke vertrauter\, aber auch wenig bekannter Komponisten und Komponistinnen a
 us Barock\, Klassik und Romantik sowie Kompositionen aus der Filmmusik.
ATTACH;FMTTYPE=image/jpeg:https://www.foerderverein-gersfeld.de/wp-content
 /uploads/2026/03/Foto-Duo-Pasculli-1.jpg
CATEGORIES:Konzert
LOCATION:Ev. Barockkirche Gersfeld\, Marktplatz 2\, Gersfeld\, Hessen\, 361
 29\, Rhön\, Deutschland
X-APPLE-STRUCTURED-LOCATION;VALUE=URI;X-ADDRESS=Marktplatz 2\, Gersfeld\, H
 essen\, 36129\, Rhön\, Deutschland;X-APPLE-RADIUS=100;X-TITLE=Ev. Barockk
 irche Gersfeld:geo:0,0
END:VEVENT
BEGIN:VTIMEZONE
TZID:Europe/Berlin
X-LIC-LOCATION:Europe/Berlin
BEGIN:DAYLIGHT
DTSTART:20260329T030000
TZOFFSETFROM:+0100
TZOFFSETTO:+0200
TZNAME:CEST
END:DAYLIGHT
END:VTIMEZONE
END:VCALENDAR