BEGIN:VCALENDAR
VERSION:2.0
PRODID:-//wp-events-plugin.com//7.2.3.1//EN
TZID:Europe/Berlin
X-WR-TIMEZONE:Europe/Berlin
BEGIN:VEVENT
UID:40@foerderverein-gersfeld.de
DTSTART;TZID=Europe/Berlin:20261025T170000
DTEND;TZID=Europe/Berlin:20261025T170000
DTSTAMP:20260322T162254Z
URL:https://www.foerderverein-gersfeld.de/veranstaltungen/orgel-und-trompe
 te-25-10-26-gersfeld/
SUMMARY:Orgel und Trompete
DESCRIPTION:Peter Groß (Orgel) und Philip Schütz (Trompete) gestalten e
 in festliches Konzert mit Werken von Telemann\, Baldassari\, Humperdinck\
 , Bach u. a. Ein klangvoller Abend zweier Musiker\, die seit vielen Jahr
 en erfolgreich zusammen musizieren.
ATTACH;FMTTYPE=image/jpeg:https://www.foerderverein-gersfeld.de/wp-content
 /uploads/2026/03/PGrossPSchuetz.jpg
CATEGORIES:Konzert,Orgelkonzert
LOCATION:Ev. Barockkirche Gersfeld\, Marktplatz 2\, Gersfeld\, Hessen\, 361
 29\, Rhön\, Deutschland
X-APPLE-STRUCTURED-LOCATION;VALUE=URI;X-ADDRESS=Marktplatz 2\, Gersfeld\, H
 essen\, 36129\, Rhön\, Deutschland;X-APPLE-RADIUS=100;X-TITLE=Ev. Barockk
 irche Gersfeld:geo:0,0
END:VEVENT
BEGIN:VTIMEZONE
TZID:Europe/Berlin
X-LIC-LOCATION:Europe/Berlin
BEGIN:STANDARD
DTSTART:20261025T020000
TZOFFSETFROM:+0200
TZOFFSETTO:+0100
TZNAME:CET
END:STANDARD
END:VTIMEZONE
END:VCALENDAR