BEGIN:VCALENDAR
VERSION:2.0
PRODID:-//wp-events-plugin.com//7.2.3.1//EN
TZID:Europe/Berlin
X-WR-TIMEZONE:Europe/Berlin
BEGIN:VEVENT
UID:38@foerderverein-gersfeld.de
DTSTART;TZID=Europe/Berlin:20260726T170000
DTEND;TZID=Europe/Berlin:20260726T170000
DTSTAMP:20260322T162223Z
URL:https://www.foerderverein-gersfeld.de/veranstaltungen/orgelkonzert-mit
 -johannes-geffert-26-07-26-gersfeld/
SUMMARY:Orgelkonzert mit Johannes Geffert
DESCRIPTION:\n\n\n\nUnter dem Titel ‚Bach goes to town‘ findet das Orge
 lkonzert am 26. Juli um 17.00 Uhr in der Evangelische Kirche in Gersfeld s
 tatt. Verehrungsvolle ‚swingende‘ Referenzen an die großen Meister we
 rden darin Meisterwerken von Bach\, Mozart und Beethoven gegenübergestel
 lt. Solist ist Johannes Geffert\, der lange Jahre an der Musikhochschule K
 öln unterrichtete und ein international bekannter Organist ist.\n\n\n\n
ATTACH;FMTTYPE=image/jpeg:https://www.foerderverein-gersfeld.de/wp-content
 /uploads/2026/03/JGeffert.jpg
CATEGORIES:Orgelkonzert
LOCATION:Ev. Barockkirche Gersfeld\, Marktplatz 2\, Gersfeld\, Hessen\, 361
 29\, Rhön\, Deutschland
X-APPLE-STRUCTURED-LOCATION;VALUE=URI;X-ADDRESS=Marktplatz 2\, Gersfeld\, H
 essen\, 36129\, Rhön\, Deutschland;X-APPLE-RADIUS=100;X-TITLE=Ev. Barockk
 irche Gersfeld:geo:0,0
END:VEVENT
BEGIN:VTIMEZONE
TZID:Europe/Berlin
X-LIC-LOCATION:Europe/Berlin
BEGIN:DAYLIGHT
DTSTART:20260329T030000
TZOFFSETFROM:+0100
TZOFFSETTO:+0200
TZNAME:CEST
END:DAYLIGHT
END:VTIMEZONE
END:VCALENDAR